Workbook

Sheet Variables Primarias
A1: Variables de longitud | J1: Variables de masa
A3: Leyenda: | J3: Leyenda:
A4: LS - Largo de la semilla | D4: LE - Largo del embrión | J4: MFS - Masa fresca de la semilla | P4: MSN - Masa seca del endospermo
A5: AS - Ancho de la semilla | D5: LST - Largo de la semilla cuando el embrión rompe la testa | J5: MSS - Masa seca de la semilla | P5: MSR - Masa seca las reservas (embrión + endospermo)
A6: GS - Grosor de la semilla | D6: LET - Largo del embión cuando rompe la testa | J6: MSH - Masa de la semilla después del contacto con agua | P6: MSC - Masa seca de las cubiertas (endocarpo + testa)
A7: LIS - Largo interno de la semilla | J7: MSE - Masa seca del embrión
B9: LS | C9: AS | D9: GS | E9: LIS | F9: LE | G9: LST | H9: LET | J9: MFS | K9: MSS | L9: MSH | M9: MSE | N9: MSN | O9: MSR | P9: MSC
A10: Media | B10: =IFERROR(AVERAGE(OFFSET(B18, 0, 0, COUNTA(B18:B117))),"") | C10: =IFERROR(AVERAGE(OFFSET(C18, 0, 0, COUNTA(C18:C117))),"") | D10: =IFERROR(AVERAGE(OFFSET(D18, 0, 0, COUNTA(D18:D117))),"") | E10: =IFERROR(AVERAGE(OFFSET(E18, 0, 0, COUNTA(E18:E117))),"") | F10: =IFERROR(AVERAGE(OFFSET(F18, 0, 0, COUNTA(F18:F117))),"") | G10: =IFERROR(AVERAGE(OFFSET(G18, 0, 0, COUNTA(G18:G117))),"") | H10: =IFERROR(AVERAGE(OFFSET(H18, 0, 0, COUNTA(H18:H117))),"") | J10: =IFERROR(AVERAGE(OFFSET(J18, 0, 0, COUNTA(J18:J117))),"") | K10: =IFERROR(AVERAGE(OFFSET(K18, 0, 0, COUNTA(K18:K117))),"") | L10: =IFERROR(AVERAGE(OFFSET(L18, 0, 0, COUNTA(L18:L117))),"") | M10: =IFERROR(AVERAGE(OFFSET(M18, 0, 0, COUNTA(M18:M117))),"") | N10: =IFERROR(AVERAGE(OFFSET(N18, 0, 0, COUNTA(N18:N117))),"") | O10: =IFERROR(AVERAGE(OFFSET(O18, 0, 0, COUNTA(O18:O117))),"") | P10: =IFERROR(AVERAGE(OFFSET(P18, 0, 0, COUNTA(P18:P117))),"")
A11: Mediana | B11: =IFERROR(MEDIAN(OFFSET(B18, 0, 0, COUNTA(B18:B117))), "") | C11: =IFERROR(MEDIAN(OFFSET(C18, 0, 0, COUNTA(C18:C117))), "") | D11: =IFERROR(MEDIAN(OFFSET(D18, 0, 0, COUNTA(D18:D117))), "") | E11: =IFERROR(MEDIAN(OFFSET(E18, 0, 0, COUNTA(E18:E117))), "") | F11: =IFERROR(MEDIAN(OFFSET(F18, 0, 0, COUNTA(F18:F117))), "") | G11: =IFERROR(MEDIAN(OFFSET(G18, 0, 0, COUNTA(G18:G117))), "") | H11: =IFERROR(MEDIAN(OFFSET(H18, 0, 0, COUNTA(H18:H117))), "") | J11: =IFERROR(MEDIAN(OFFSET(J18, 0, 0, COUNTA(J18:J117))), "") | K11: =IFERROR(MEDIAN(OFFSET(K18, 0, 0, COUNTA(K18:K117))), "") | L11: =IFERROR(MEDIAN(OFFSET(L18, 0, 0, COUNTA(L18:L117))), "") | M11: =IFERROR(MEDIAN(OFFSET(M18, 0, 0, COUNTA(M18:M117))), "") | N11: =IFERROR(MEDIAN(OFFSET(N18, 0, 0, COUNTA(N18:N117))), "") | O11: =IFERROR(MEDIAN(OFFSET(O18, 0, 0, COUNTA(O18:O117))), "") | P11: =IFERROR(MEDIAN(OFFSET(P18, 0, 0, COUNTA(P18:P117))), "")
A12: DS | B12: =IFERROR(_xlfn.STDEV.S(OFFSET(B18, 0, 0, COUNTA(B18:B117))),"") | C12: =IFERROR(_xlfn.STDEV.S(OFFSET(C18, 0, 0, COUNTA(C18:C117))),"") | D12: =IFERROR(_xlfn.STDEV.S(OFFSET(D18, 0, 0, COUNTA(D18:D117))),"") | E12: =IFERROR(_xlfn.STDEV.S(OFFSET(E18, 0, 0, COUNTA(E18:E117))),"") | F12: =IFERROR(_xlfn.STDEV.S(OFFSET(F18, 0, 0, COUNTA(F18:F117))),"") | G12: =IFERROR(_xlfn.STDEV.S(OFFSET(G18, 0, 0, COUNTA(G18:G117))),"") | H12: =IFERROR(_xlfn.STDEV.S(OFFSET(H18, 0, 0, COUNTA(H18:H117))),"") | J12: =IFERROR(_xlfn.STDEV.S(OFFSET(J18, 0, 0, COUNTA(J18:J117))),"") | K12: =IFERROR(_xlfn.STDEV.S(OFFSET(K18, 0, 0, COUNTA(K18:K117))),"") | L12: =IFERROR(_xlfn.STDEV.S(OFFSET(L18, 0, 0, COUNTA(L18:L117))),"") | M12: =IFERROR(_xlfn.STDEV.S(OFFSET(M18, 0, 0, COUNTA(M18:M117))),"") | N12: =IFERROR(_xlfn.STDEV.S(OFFSET(N18, 0, 0, COUNTA(N18:N117))),"") | O12: =IFERROR(_xlfn.STDEV.S(OFFSET(O18, 0, 0, COUNTA(O18:O117))),"") | P12: =IFERROR(_xlfn.STDEV.S(OFFSET(P18, 0, 0, COUNTA(P18:P117))),"")
A13: ES | B13: =IFERROR(B12/SQRT(COUNTA(B18:B117)), "") | C13: =IFERROR(C12/SQRT(COUNTA(C18:C117)), "") | D13: =IFERROR(D12/SQRT(COUNTA(D18:D117)), "") | E13: =IFERROR(E12/SQRT(COUNTA(E18:E117)), "") | F13: =IFERROR(F12/SQRT(COUNTA(F18:F117)), "") | G13: =IFERROR(G12/SQRT(COUNTA(G18:G117)), "") | H13: =IFERROR(H12/SQRT(COUNTA(H18:H117)), "") | J13: =IFERROR(J12/SQRT(COUNTA(J18:J117)), "") | K13: =IFERROR(K12/SQRT(COUNTA(K18:K117)), "") | L13: =IFERROR(L12/SQRT(COUNTA(L18:L117)), "") | M13: =IFERROR(M12/SQRT(COUNTA(M18:M117)), "") | N13: =IFERROR(N12/SQRT(COUNTA(N18:N117)), "") | O13: =IFERROR(O12/SQRT(COUNTA(O18:O117)), "") | P13: =IFERROR(P12/SQRT(COUNTA(P18:P117)), "")
A14: Mínimo | B14: =IFERROR(MIN(OFFSET(B18, 0, 0, COUNTA(B18:B117))), "") | C14: =IFERROR(MIN(OFFSET(C18, 0, 0, COUNTA(C18:C117))), "") | D14: =IFERROR(MIN(OFFSET(D18, 0, 0, COUNTA(D18:D117))), "") | E14: =IFERROR(MIN(OFFSET(E18, 0, 0, COUNTA(E18:E117))), "") | F14: =IFERROR(MIN(OFFSET(F18, 0, 0, COUNTA(F18:F117))), "") | G14: =IFERROR(MIN(OFFSET(G18, 0, 0, COUNTA(G18:G117))), "") | H14: =IFERROR(MIN(OFFSET(H18, 0, 0, COUNTA(H18:H117))), "") | J14: =IFERROR(MIN(OFFSET(J18, 0, 0, COUNTA(J18:J117))), "") | K14: =IFERROR(MIN(OFFSET(K18, 0, 0, COUNTA(K18:K117))), "") | L14: =IFERROR(MIN(OFFSET(L18, 0, 0, COUNTA(L18:L117))), "") | M14: =IFERROR(MIN(OFFSET(M18, 0, 0, COUNTA(M18:M117))), "") | N14: =IFERROR(MIN(OFFSET(N18, 0, 0, COUNTA(N18:N117))), "") | O14: =IFERROR(MIN(OFFSET(O18, 0, 0, COUNTA(O18:O117))), "") | P14: =IFERROR(MIN(OFFSET(P18, 0, 0, COUNTA(P18:P117))), "")
A15: Máximo | B15: =IFERROR(MAX(OFFSET(B18, 0, 0, COUNTA(B18:B117))), "") | C15: =IFERROR(MAX(OFFSET(C18, 0, 0, COUNTA(C18:C117))), "") | D15: =IFERROR(MAX(OFFSET(D18, 0, 0, COUNTA(D18:D117))), "") | E15: =IFERROR(MAX(OFFSET(E18, 0, 0, COUNTA(E18:E117))), "") | F15: =IFERROR(MAX(OFFSET(F18, 0, 0, COUNTA(F18:F117))), "") | G15: =IFERROR(MAX(OFFSET(G18, 0, 0, COUNTA(G18:G117))), "") | H15: =IFERROR(MAX(OFFSET(H18, 0, 0, COUNTA(H18:H117))), "") | J15: =IFERROR(MAX(OFFSET(J18, 0, 0, COUNTA(J18:J117))), "") | K15: =IFERROR(MAX(OFFSET(K18, 0, 0, COUNTA(K18:K117))), "") | L15: =IFERROR(MAX(OFFSET(L18, 0, 0, COUNTA(L18:L117))), "") | M15: =IFERROR(MAX(OFFSET(M18, 0, 0, COUNTA(M18:M117))), "") | N15: =IFERROR(MAX(OFFSET(N18, 0, 0, COUNTA(N18:N117))), "") | O15: =IFERROR(MAX(OFFSET(O18, 0, 0, COUNTA(O18:O117))), "") | P15: =IFERROR(MAX(OFFSET(P18, 0, 0, COUNTA(P18:P117))), "")
A16: Coef. Variación | B16: =IFERROR(((B12/B10)*100),"") | C16: =IFERROR(((C12/C10)*100),"") | D16: =IFERROR(((D12/D10)*100),"") | E16: =IFERROR(((E12/E10)*100),"") | F16: =IFERROR(((F12/F10)*100),"") | G16: =IFERROR(((G12/G10)*100),"") | H16: =IFERROR(((H12/H10)*100),"") | J16: =IFERROR(((J12/J10)*100),"") | K16: =IFERROR(((K12/K10)*100),"") | L16: =IFERROR(((L12/L10)*100),"") | M16: =IFERROR(((M12/M10)*100),"") | N16: =IFERROR(((N12/N10)*100),"") | O16: =IFERROR(((O12/O10)*100),"") | P16: =IFERROR(((P12/P10)*100),"")
A17: Réplica
A18: 1
A19: 2
A20: 3
A21: 4
A22: 5
A23: 6
A24: 7
A25: 8
A26: 9
A27: 10
A28: 11
A29: 12
... A117: 100

Sheet Contenido de Humedad
A1: Contenido de humedad
A3: Leyenda:
A4: MFS - Masa fresca de la semilla
A5: MSS - Masa seca de la semilla
A6: CH(MF)% - Contenido de humedad inicial de la semilla en función de la masa fresca
B8: MFS | C8: MSS | D8: CH(MF)%
A9: Media | B9: =IFERROR(AVERAGE(OFFSET(B17, 0, 0, COUNTA(B17:B116))),"") | C9: =IFERROR(AVERAGE(OFFSET(C17, 0, 0, COUNTA(C17:C116))),"") | D9: {=IFERROR(AVERAGE(IF(ISNUMBER(D17:D116), D17:D116)),"")}
A10: Mediana | B10: =IFERROR(MEDIAN(OFFSET(B17, 0, 0, COUNTA(B17:B116))), "") | C10: =IFERROR(MEDIAN(OFFSET(C17, 0, 0, COUNTA(C17:C116))), "") | D10: {=IFERROR(MEDIAN(IF(ISNUMBER(D17:D116), D17:D116)),"")}
A11: DS | B11: =IFERROR(_xlfn.STDEV.S(OFFSET(B17, 0, 0, COUNTA(B17:B116))),"") | C11: =IFERROR(_xlfn.STDEV.S(OFFSET(C17, 0, 0, COUNTA(C17:C116))),"") | D11: {=IFERROR(_xlfn.STDEV.S(IF(ISNUMBER(D17:D116), D17:D116)),"")}
A12: ES | B12: {=IFERROR(B11/SQRT(SUMPRODUCT(ISNUMBER(B17:B116)*1)), "")} | C12: {=IFERROR(C11/SQRT(SUMPRODUCT(ISNUMBER(C17:C116)*1)), "")} | D12: {=IFERROR(D11/SQRT(SUMPRODUCT(--ISNUMBER(D17:D116))),"")}
A13: Mínimo | B13: =IFERROR(MIN(OFFSET(B16, 0, 0, COUNTA(B16:B115))), "") -> 0 | C13: =IFERROR(MIN(OFFSET(C17, 0, 0, COUNTA(C17:C116))), "") -> 0 | D13: {=IFERROR(MIN(IF(ISNUMBER(D17:D116), D17:D116)),"")} -> 0
A14: Máximo | B14: =IFERROR(MAX(OFFSET(B17, 0, 0, COUNTA(B17:B116))), "") -> 0 | C14: =IFERROR(MAX(OFFSET(C17, 0, 0, COUNTA(C17:C116))), "") -> 0 | D14: {=IFERROR(MAX(IF(ISNUMBER(D17:D116), D17:D116)),"")} -> 0
A15: Coef. Variación | B15: =IFERROR(((B11/B9)*100),"") | C15: =IFERROR(((C11/C9)*100),"") | D15: =IFERROR(((D11/D9)*100), "")
A16: Réplica
A17: 1 | B17: =IF(ISBLANK('Variables Primarias'!J18), "", 'Variables Primarias'!J18) | C17: =IF(ISBLANK('Variables Primarias'!K18), "", 'Variables Primarias'!K18) | D17: =IFERROR(((B17-C17)/B17*100),"")
A18: 2 | B18: =IF(ISBLANK('Variables Primarias'!J19), "", 'Variables Primarias'!J19) | C18: =IF(ISBLANK('Variables Primarias'!K19), "", 'Variables Primarias'!K19) | D18: =IFERROR(((B18-C18)/B18*100),"")
A19: 3 | B19: =IF(ISBLANK('Variables Primarias'!J20), "", 'Variables Primarias'!J20) | C19: =IF(ISBLANK('Variables Primarias'!K20), "", 'Variables Primarias'!K20) | D19: =IFERROR(((B19-C19)/B19*100),"")
A20: 4 | B20: =IF(ISBLANK('Variables Primarias'!J21), "", 'Variables Primarias'!J21) | C20: =IF(ISBLANK('Variables Primarias'!K21), "", 'Variables Primarias'!K21) | D20: =IFERROR(((B20-C20)/B20*100),"")
A21: 5 | B21: =IF(ISBLANK('Variables Primarias'!J22), "", 'Variables Primarias'!J22) | C21: =IF(ISBLANK('Variables Primarias'!K22), "", 'Variables Primarias'!K22) | D21: =IFERROR(((B21-C21)/B21*100),"")
A22: 6 | B22: =IF(ISBLANK('Variables Primarias'!J23), "", 'Variables Primarias'!J23) | C22: =IF(ISBLANK('Variables Primarias'!K23), "", 'Variables Primarias'!K23) | D22: =IFERROR(((B22-C22)/B22*100),"")
A23: 7 | B23: =IF(ISBLANK('Variables Primarias'!J24), "", 'Variables Primarias'!J24) | C23: =IF(ISBLANK('Variables Primarias'!K24), "", 'Variables Primarias'!K24) | D23: =IFERROR(((B23-C23)/B23*100),"")
A24: 8 | B24: =IF(ISBLANK('Variables Primarias'!J25), "", 'Variables Primarias'!J25) | C24: =IF(ISBLANK('Variables Primarias'!K25), "", 'Variables Primarias'!K25) | D24: =IFERROR(((B24-C24)/B24*100),"")
A25: 9 | B25: =IF(ISBLANK('Variables Primarias'!J26), "", 'Variables Primarias'!J26) | C25: =IF(ISBLANK('Variables Primarias'!K26), "", 'Variables Primarias'!K26) | D25: =IFERROR(((B25-C25)/B25*100),"")
A26: 10 | B26: =IF(ISBLANK('Variables Primarias'!J27), "", 'Variables Primarias'!J27) | C26: =IF(ISBLANK('Variables Primarias'!K27), "", 'Variables Primarias'!K27) | D26: =IFERROR(((B26-C26)/B26*100),"")
A27: 11 | B27: =IF(ISBLANK('Variables Primarias'!J28), "", 'Variables Primarias'!J28) | C27: =IF(ISBLANK('Variables Primarias'!K28), "", 'Variables Primarias'!K28) | D27: =IFERROR(((B27-C27)/B27*100),"")
A28: 12 | B28: =IF(ISBLANK('Variables Primarias'!J29), "", 'Variables Primarias'!J29) | C28: =IF(ISBLANK('Variables Primarias'!K29), "", 'Variables Primarias'!K29) | D28: =IFERROR(((B28-C28)/B28*100),"")
... A116: 100 | B116: =IF(ISBLANK('Variables Primarias'!J117), "", 'Variables Primarias'!J117) | C116: =IF(ISBLANK('Variables Primarias'!K117), "", 'Variables Primarias'!K117) | D116: =IFERROR(((B116-C116)/B116*100),"")

Sheet Forma
A1: Forma de la semilla
A3: Leyenda:
A4: LS - Largo de la semilla
A5: AS - Ancho de la semilla
A6: GS - Grosor de la semilla
A7: VDS - Varianza de las dimensiones de la semilla
B9: LS | C9: AS | D9: GS | E9: LS/LS | F9: AS/LS | G9: GS/LS | H9: VDS
A10: Media | B10: =IFERROR(AVERAGE(OFFSET(B18, 0, 0, COUNTA(B18:B117))),"") | C10: =IFERROR(AVERAGE(OFFSET(C18, 0, 0, COUNTA(C18:C117))),"") | D10: =IFERROR(AVERAGE(OFFSET(D18, 0, 0, COUNTA(D18:D117))),"") | E10: {=IFERROR(AVERAGE(IF(ISNUMBER(E18:E117), E18:E117)),"")} | F10: {=IFERROR(AVERAGE(IF(ISNUMBER(F18:F117), F18:F117)),"")} | G10: {=IFERROR(AVERAGE(IF(ISNUMBER(G18:G117), G18:G117)),"")} | H10: {=IFERROR(AVERAGE(IF(ISNUMBER(H18:H117), H18:H117)),"")}
A11: Mediana | B11: =IFERROR(MEDIAN(OFFSET(B18, 0, 0, COUNTA(B18:B117))), "") | C11: =IFERROR(MEDIAN(OFFSET(C18, 0, 0, COUNTA(C18:C117))), "") | D11: =IFERROR(MEDIAN(OFFSET(D18, 0, 0, COUNTA(D18:D117))), "") | E11: {=IFERROR(MEDIAN(IF(ISNUMBER(E18:E117), E18:E117)),"")} | F11: {=IFERROR(MEDIAN(IF(ISNUMBER(F18:F117), F18:F117)),"")} | G11: {=IFERROR(MEDIAN(IF(ISNUMBER(G18:G117), G18:G117)),"")} | H11: {=IFERROR(MEDIAN(IF(ISNUMBER(H18:H117), H18:H117)),"")}
A12: DS | B12: =IFERROR(_xlfn.STDEV.S(OFFSET(B18, 0, 0, COUNTA(B18:B117))),"") | C12: =IFERROR(_xlfn.STDEV.S(OFFSET(C18, 0, 0, COUNTA(C18:C117))),"") | D12: =IFERROR(_xlfn.STDEV.S(OFFSET(D18, 0, 0, COUNTA(D18:D117))),"") | E12: {=IFERROR(_xlfn.STDEV.S(IF(ISNUMBER(E18:E117), E18:E117)),"")} | F12: {=IFERROR(_xlfn.STDEV.S(IF(ISNUMBER(F18:F117), F18:F117)),"")} | G12: {=IFERROR(_xlfn.STDEV.S(IF(ISNUMBER(G18:G117), G18:G117)),"")} | H12: {=IFERROR(_xlfn.STDEV.S(IF(ISNUMBER(H18:H117), H18:H117)),"")}
A13: ES | B13: {=IFERROR(B12/SQRT(SUMPRODUCT(ISNUMBER(B18:B117)*1)), "")} | C13: {=IFERROR(C12/SQRT(SUMPRODUCT(ISNUMBER(C18:C117)*1)), "")} | D13: {=IFERROR(D12/SQRT(SUMPRODUCT(ISNUMBER(D18:D117)*1)), "")} | E13: {=IFERROR(E12/SQRT(SUMPRODUCT(--ISNUMBER(E18:E117))),"")} | F13: {=IFERROR(F12/SQRT(SUMPRODUCT(--ISNUMBER(F18:F117))),"")} | G13: {=IFERROR(G12/SQRT(SUMPRODUCT(--ISNUMBER(G18:G117))),"")} | H13: {=IFERROR(H12/SQRT(SUMPRODUCT(--ISNUMBER(H18:H117))),"")}
A14: Mínimo | B14: =IFERROR(MIN(OFFSET(B18, 0, 0, COUNTA(B18:B117))), "") -> 0 | C14: =IFERROR(MIN(OFFSET(C18, 0, 0, COUNTA(C18:C117))), "") -> 0 | D14: =IFERROR(MIN(OFFSET(D18, 0, 0, COUNTA(D18:D117))), "") -> 0 | E14: {=IFERROR(MIN(IF(ISNUMBER(E18:E117), E18:E117)),"")} -> 0 | F14: {=IFERROR(MIN(IF(ISNUMBER(F18:F117), F18:F117)),"")} -> 0 | G14: {=IFERROR(MIN(IF(ISNUMBER(G18:G117), G18:G117)),"")} -> 0 | H14: {=IFERROR(MIN(IF(ISNUMBER(H18:H117), H18:H117)),"")} -> 0
A15: Máximo | B15: =IFERROR(MAX(OFFSET(B18, 0, 0, COUNTA(B18:B117))), "") -> 0 | C15: =IFERROR(MAX(OFFSET(C18, 0, 0, COUNTA(C18:C117))), "") -> 0 | D15: =IFERROR(MAX(OFFSET(D18, 0, 0, COUNTA(D18:D117))), "") -> 0 | E15: {=IFERROR(MAX(IF(ISNUMBER(E18:E117), E18:E117)),"")} -> 0 | F15: {=IFERROR(MAX(IF(ISNUMBER(F18:F117), F18:F117)),"")} -> 0 | G15: {=IFERROR(MAX(IF(ISNUMBER(G18:G117), G18:G117)),"")} -> 0 | H15: {=IFERROR(MAX(IF(ISNUMBER(H18:H117), H18:H117)),"")} -> 0
A16: Coef. Variación | B16: =IFERROR(((B12/B10)*100),"") | C16: =IFERROR(((C12/C10)*100),"") | D16: =IFERROR(((D12/D10)*100),"") | E16: =IFERROR(((E12/E10)*100), "") | F16: =IFERROR(((F12/F10)*100), "") | G16: =IFERROR(((G12/G10)*100), "") | H16: =IFERROR(((H12/H10)*100), "")
A17: Réplica
A18: 1 | B18: =IF(ISBLANK('Variables Primarias'!B18), "", 'Variables Primarias'!B18) | C18: =IF(ISBLANK('Variables Primarias'!C18), "", 'Variables Primarias'!C18) | D18: =IF(ISBLANK('Variables Primarias'!D18), "", 'Variables Primarias'!D18) | E18: =IFERROR((B18/$B18),"") | F18: =IFERROR((C18/$B18),"") | G18: =IFERROR((D18/$B18),"") | H18: =IFERROR((VAR(E18:G18)),"")
A19: 2 | B19: =IF(ISBLANK('Variables Primarias'!B19), "", 'Variables Primarias'!B19) | C19: =IF(ISBLANK('Variables Primarias'!C19), "", 'Variables Primarias'!C19) | D19: =IF(ISBLANK('Variables Primarias'!D19), "", 'Variables Primarias'!D19) | E19: =IFERROR((B19/$B19),"") | F19: =IFERROR((C19/$B19),"") | G19: =IFERROR((D19/$B19),"") | H19: =IFERROR((VAR(E19:G19)),"")
A20: 3 | B20: =IF(ISBLANK('Variables Primarias'!B20), "", 'Variables Primarias'!B20) | C20: =IF(ISBLANK('Variables Primarias'!C20), "", 'Variables Primarias'!C20) | D20: =IF(ISBLANK('Variables Primarias'!D20), "", 'Variables Primarias'!D20) | E20: =IFERROR((B20/$B20),"") | F20: =IFERROR((C20/$B20),"") | G20: =IFERROR((D20/$B20),"") | H20: =IFERROR((VAR(E20:G20)),"")
A21: 4 | B21: =IF(ISBLANK('Variables Primarias'!B21), "", 'Variables Primarias'!B21) | C21: =IF(ISBLANK('Variables Primarias'!C21), "", 'Variables Primarias'!C21) | D21: =IF(ISBLANK('Variables Primarias'!D21), "", 'Variables Primarias'!D21) | E21: =IFERROR((B21/$B21),"") | F21: =IFERROR((C21/$B21),"") | G21: =IFERROR((D21/$B21),"") | H21: =IFERROR((VAR(E21:G21)),"")
A22: 5 | B22: =IF(ISBLANK('Variables Primarias'!B22), "", 'Variables Primarias'!B22) | C22: =IF(ISBLANK('Variables Primarias'!C22), "", 'Variables Primarias'!C22) | D22: =IF(ISBLANK('Variables Primarias'!D22), "", 'Variables Primarias'!D22) | E22: =IFERROR((B22/$B22),"") | F22: =IFERROR((C22/$B22),"") | G22: =IFERROR((D22/$B22),"") | H22: =IFERROR((VAR(E22:G22)),"")
A23: 6 | B23: =IF(ISBLANK('Variables Primarias'!B23), "", 'Variables Primarias'!B23) | C23: =IF(ISBLANK('Variables Primarias'!C23), "", 'Variables Primarias'!C23) | D23: =IF(ISBLANK('Variables Primarias'!D23), "", 'Variables Primarias'!D23) | E23: =IFERROR((B23/$B23),"") | F23: =IFERROR((C23/$B23),"") | G23: =IFERROR((D23/$B23),"") | H23: =IFERROR((VAR(E23:G23)),"")
A24: 7 | B24: =IF(ISBLANK('Variables Primarias'!B24), "", 'Variables Primarias'!B24) | C24: =IF(ISBLANK('Variables Primarias'!C24), "", 'Variables Primarias'!C24) | D24: =IF(ISBLANK('Variables Primarias'!D24), "", 'Variables Primarias'!D24) | E24: =IFERROR((B24/$B24),"") | F24: =IFERROR((C24/$B24),"") | G24: =IFERROR((D24/$B24),"") | H24: =IFERROR((VAR(E24:G24)),"")
A25: 8 | B25: =IF(ISBLANK('Variables Primarias'!B25), "", 'Variables Primarias'!B25) | C25: =IF(ISBLANK('Variables Primarias'!C25), "", 'Variables Primarias'!C25) | D25: =IF(ISBLANK('Variables Primarias'!D25), "", 'Variables Primarias'!D25) | E25: =IFERROR((B25/$B25),"") | F25: =IFERROR((C25/$B25),"") | G25: =IFERROR((D25/$B25),"") | H25: =IFERROR((VAR(E25:G25)),"")
A26: 9 | B26: =IF(ISBLANK('Variables Primarias'!B26), "", 'Variables Primarias'!B26) | C26: =IF(ISBLANK('Variables Primarias'!C26), "", 'Variables Primarias'!C26) | D26: =IF(ISBLANK('Variables Primarias'!D26), "", 'Variables Primarias'!D26) | E26: =IFERROR((B26/$B26),"") | F26: =IFERROR((C26/$B26),"") | G26: =IFERROR((D26/$B26),"") | H26: =IFERROR((VAR(E26:G26)),"")
A27: 10 | B27: =IF(ISBLANK('Variables Primarias'!B27), "", 'Variables Primarias'!B27) | C27: =IF(ISBLANK('Variables Primarias'!C27), "", 'Variables Primarias'!C27) | D27: =IF(ISBLANK('Variables Primarias'!D27), "", 'Variables Primarias'!D27) | E27: =IFERROR((B27/$B27),"") | F27: =IFERROR((C27/$B27),"") | G27: =IFERROR((D27/$B27),"") | H27: =IFERROR((VAR(E27:G27)),"")
A28: 11 | B28: =IF(ISBLANK('Variables Primarias'!B28), "", 'Variables Primarias'!B28) | C28: =IF(ISBLANK('Variables Primarias'!C28), "", 'Variables Primarias'!C28) | D28: =IF(ISBLANK('Variables Primarias'!D28), "", 'Variables Primarias'!D28) | E28: =IFERROR((B28/$B28),"") | F28: =IFERROR((C28/$B28),"") | G28: =IFERROR((D28/$B28),"") | H28: =IFERROR((VAR(E28:G28)),"")
A29: 12 | B29: =IF(ISBLANK('Variables Primarias'!B29), "", 'Variables Primarias'!B29) | C29: =IF(ISBLANK('Variables Primarias'!C29), "", 'Variables Primarias'!C29) | D29: =IF(ISBLANK('Variables Primarias'!D29), "", 'Variables Primarias'!D29) | E29: =IFERROR((B29/$B29),"") | F29: =IFERROR((C29/$B29),"") | G29: =IFERROR((D29/$B29),"") | H29: =IFERROR((VAR(E29:G29)),"")
... A117: 100 | B117: =IF(ISBLANK('Variables Primarias'!B117), "", 'Variables Primarias'!B117) | C117: =IF(ISBLANK('Variables Primarias'!C117), "", 'Variables Primarias'!C117) | D117: =IF(ISBLANK('Variables Primarias'!D117), "", 'Variables Primarias'!D117) | E117: =IFERROR((B117/$B117),"") | F117: =IFERROR((C117/$B117),"") | G117: =IFERROR((D117/$B117),"") | H117: =IFERROR((VAR(E117:G117)),"")

Sheet Distribución de Biomasa
A1: Distribución de biomasa seminal
A3: Leyenda:
A4: MSS - Masa seca de la semilla | E4: MSC - Masa seca de las cubiertas (endocarpo + testa) | J4: MRC - Masa relativa de las cubiertas | P4: MRC% - Porcentaje de masa relativa de las cubiertas
A5: MSE - Masa seca del embrión | E5: MRE - Masa relativa del embrión | J5: MRE% - Porcentaje de masa relativa del embrión
A6: MSN - Masa seca del endospermo | E6: MRN - Masa relativa del endospermo | J6: MRN% - Porcentaje de masa relativa del endospermo
A7: MSR - Masa seca de las reservas (embrión + endospermo) | E7: MRR - Masa relativa de las reservas (embrión + endospermo) | J7: MRR% - Porcentaje de masa relativa de las reservas (embrión + endospermo)
B9: MSS | C9: MSE | D9: MSN | E9: MSR | F9: MSC | G9: MRE | H9: MRN | I9: MRR | J9: MRC | K9: MRE% | L9: MRN% | M9: MRR% | N9: MRC%
A10: Media | B10: =IFERROR(AVERAGE(OFFSET(B18, 0, 0, COUNTA(B18:B117))),"") | C10: =IFERROR(AVERAGE(OFFSET(C18, 0, 0, COUNTA(C18:C117))),"") | D10: =IFERROR(AVERAGE(OFFSET(D18, 0, 0, COUNTA(D18:D117))),"") | E10: =IFERROR(AVERAGE(OFFSET(E18, 0, 0, COUNTA(E18:E117))),"") | F10: =IFERROR(AVERAGE(OFFSET(F18, 0, 0, COUNTA(F18:F117))),"") | G10: {=IFERROR(AVERAGE(IF(ISNUMBER(G18:G117), G18:G117)),"")} | H10: {=IFERROR(AVERAGE(IF(ISNUMBER(H18:H117), H18:H117)),"")} | I10: {=IFERROR(AVERAGE(IF(ISNUMBER(I18:I117), I18:I117)),"")} | J10: {=IFERROR(AVERAGE(IF(ISNUMBER(J18:J117), J18:J117)),"")} | K10: {=IFERROR(AVERAGE(IF(ISNUMBER(K18:K117), K18:K117)),"")} | L10: {=IFERROR(AVERAGE(IF(ISNUMBER(L18:L117), L18:L117)),"")} | M10: {=IFERROR(AVERAGE(IF(ISNUMBER(M18:M117), M18:M117)),"")} | N10: {=IFERROR(AVERAGE(IF(ISNUMBER(N18:N117), N18:N117)),"")}
A11: Mediana | B11: =IFERROR(MEDIAN(OFFSET(B18, 0, 0, COUNTA(B18:B117))), "") | C11: =IFERROR(MEDIAN(OFFSET(C18, 0, 0, COUNTA(C18:C117))), "") | D11: =IFERROR(MEDIAN(OFFSET(D18, 0, 0, COUNTA(D18:D117))), "") | E11: =IFERROR(MEDIAN(OFFSET(E18, 0, 0, COUNTA(E18:E117))), "") | F11: =IFERROR(MEDIAN(OFFSET(F18, 0, 0, COUNTA(F18:F117))), "") | G11: {=IFERROR(MEDIAN(IF(ISNUMBER(G18:G117), G18:G117)),"")} | H11: {=IFERROR(MEDIAN(IF(ISNUMBER(H18:H117), H18:H117)),"")} | I11: {=IFERROR(MEDIAN(IF(ISNUMBER(I18:I117), I18:I117)),"")} | J11: {=IFERROR(MEDIAN(IF(ISNUMBER(J18:J117), J18:J117)),"")} | K11: {=IFERROR(MEDIAN(IF(ISNUMBER(K18:K117), K18:K117)),"")} | L11: {=IFERROR(MEDIAN(IF(ISNUMBER(L18:L117), L18:L117)),"")} | M11: {=IFERROR(MEDIAN(IF(ISNUMBER(M18:M117), M18:M117)),"")} | N11: {=IFERROR(MEDIAN(IF(ISNUMBER(N18:N117), N18:N117)),"")}
A12: DS | B12: =IFERROR(_xlfn.STDEV.S(OFFSET(B18, 0, 0, COUNTA(B18:B117))),"") | C12: =IFERROR(_xlfn.STDEV.S(OFFSET(C18, 0, 0, COUNTA(C18:C117))),"") | D12: =IFERROR(_xlfn.STDEV.S(OFFSET(D18, 0, 0, COUNTA(D18:D117))),"") | E12: =IFERROR(_xlfn.STDEV.S(OFFSET(E18, 0, 0, COUNTA(E18:E117))),"") | F12: =IFERROR(_xlfn.STDEV.S(OFFSET(F18, 0, 0, COUNTA(F18:F117))),"") | G12: {=IFERROR(_xlfn.STDEV.S(IF(ISNUMBER(G18:G117), G18:G117)),"")} | H12: {=IFERROR(_xlfn.STDEV.S(IF(ISNUMBER(H18:H117), H18:H117)),"")} | I12: {=IFERROR(_xlfn.STDEV.S(IF(ISNUMBER(I18:I117), I18:I117)),"")} | J12: {=IFERROR(_xlfn.STDEV.S(IF(ISNUMBER(J18:J117), J18:J117)),"")} | K12: {=IFERROR(_xlfn.STDEV.S(IF(ISNUMBER(K18:K117), K18:K117)),"")} | L12: {=IFERROR(_xlfn.STDEV.S(IF(ISNUMBER(L18:L117), L18:L117)),"")} | M12: {=IFERROR(_xlfn.STDEV.S(IF(ISNUMBER(M18:M117), M18:M117)),"")} | N12: {=IFERROR(_xlfn.STDEV.S(IF(ISNUMBER(N18:N117), N18:N117)),"")}
A13: ES | B13: {=IFERROR(B12/SQRT(SUMPRODUCT(ISNUMBER(B18:B117)*1)), "")} | C13: {=IFERROR(C12/SQRT(SUMPRODUCT(ISNUMBER(C18:C117)*1)), "")} | D13: {=IFERROR(D12/SQRT(SUMPRODUCT(ISNUMBER(D18:D117)*1)), "")} | E13: {=IFERROR(E12/SQRT(SUMPRODUCT(ISNUMBER(E18:E117)*1)), "")} | F13: {=IFERROR(F12/SQRT(SUMPRODUCT(ISNUMBER(F18:F117)*1)), "")} | G13: {=IFERROR(G12/SQRT(SUMPRODUCT(--ISNUMBER(G18:G117))),"")} | H13: {=IFERROR(H12/SQRT(SUMPRODUCT(--ISNUMBER(H18:H117))),"")} | I13: {=IFERROR(I12/SQRT(SUMPRODUCT(--ISNUMBER(I18:I117))),"")} | J13: {=IFERROR(J12/SQRT(SUMPRODUCT(--ISNUMBER(J18:J117))),"")} | K13: {=IFERROR(K12/SQRT(SUMPRODUCT(--ISNUMBER(K18:K117))),"")} | L13: {=IFERROR(L12/SQRT(SUMPRODUCT(--ISNUMBER(L18:L117))),"")} | M13: {=IFERROR(M12/SQRT(SUMPRODUCT(--ISNUMBER(M18:M117))),"")} | N13: {=IFERROR(N12/SQRT(SUMPRODUCT(--ISNUMBER(N18:N117))),"")}
A14: Mínimo | B14: =IFERROR(MIN(OFFSET(B18, 0, 0, COUNTA(B18:B117))), "") -> 0 | C14: =IFERROR(MIN(OFFSET(C18, 0, 0, COUNTA(C18:C117))), "") -> 0 | D14: =IFERROR(MIN(OFFSET(D18, 0, 0, COUNTA(D18:D117))), "") -> 0 | E14: =IFERROR(MIN(OFFSET(E18, 0, 0, COUNTA(E18:E117))), "") -> 0 | F14: =IFERROR(MIN(OFFSET(F18, 0, 0, COUNTA(F18:F117))), "") -> 0 | G14: {=IFERROR(MIN(IF(ISNUMBER(G18:G117), G18:G117)),"")} -> 0 | H14: {=IFERROR(MIN(IF(ISNUMBER(H18:H117), H18:H117)),"")} -> 0 | I14: {=IFERROR(MIN(IF(ISNUMBER(I18:I117), I18:I117)),"")} -> 0 | J14: {=IFERROR(MIN(IF(ISNUMBER(J18:J117), J18:J117)),"")} -> 0 | K14: {=IFERROR(MIN(IF(ISNUMBER(K18:K117), K18:K117)),"")} -> 0 | L14: {=IFERROR(MIN(IF(ISNUMBER(L18:L117), L18:L117)),"")} -> 0 | M14: {=IFERROR(MIN(IF(ISNUMBER(M18:M117), M18:M117)),"")} -> 0 | N14: {=IFERROR(MIN(IF(ISNUMBER(N18:N117), N18:N117)),"")} -> 0
A15: Máximo | B15: =IFERROR(MAX(OFFSET(B18, 0, 0, COUNTA(B18:B117))), "") -> 0 | C15: =IFERROR(MAX(OFFSET(C18, 0, 0, COUNTA(C18:C117))), "") -> 0 | D15: =IFERROR(MAX(OFFSET(D18, 0, 0, COUNTA(D18:D117))), "") -> 0 | E15: =IFERROR(MAX(OFFSET(E18, 0, 0, COUNTA(E18:E117))), "") -> 0 | F15: =IFERROR(MAX(OFFSET(F18, 0, 0, COUNTA(F18:F117))), "") -> 0 | G15: {=IFERROR(MAX(IF(ISNUMBER(G18:G117), G18:G117)),"")} -> 0 | H15: {=IFERROR(MAX(IF(ISNUMBER(H18:H117), H18:H117)),"")} -> 0 | I15: {=IFERROR(MAX(IF(ISNUMBER(I18:I117), I18:I117)),"")} -> 0 | J15: {=IFERROR(MAX(IF(ISNUMBER(J18:J117), J18:J117)),"")} -> 0 | K15: {=IFERROR(MAX(IF(ISNUMBER(K18:K117), K18:K117)),"")} -> 0 | L15: {=IFERROR(MAX(IF(ISNUMBER(L18:L117), L18:L117)),"")} -> 0 | M15: {=IFERROR(MAX(IF(ISNUMBER(M18:M117), M18:M117)),"")} -> 0 | N15: {=IFERROR(MAX(IF(ISNUMBER(N18:N117), N18:N117)),"")} -> 0
A16: Coef. Variación | B16: =IFERROR(((B12/B10)*100),"") | C16: =IFERROR(((C12/C10)*100),"") | D16: =IFERROR(((D12/D10)*100),"") | E16: =IFERROR(((E12/E10)*100),"") | F16: =IFERROR(((F12/F10)*100),"") | G16: =IFERROR(((G12/G10)*100), "") | H16: =IFERROR(((H12/H10)*100), "") | I16: =IFERROR(((I12/I10)*100), "") | J16: =IFERROR(((J12/J10)*100), "") | K16: =IFERROR(((K12/K10)*100), "") | L16: =IFERROR(((L12/L10)*100), "") | M16: =IFERROR(((M12/M10)*100), "") | N16: =IFERROR(((N12/N10)*100), "")
A17: Réplica
A18: 1 | B18: =IF(ISBLANK('Variables Primarias'!K18), "", 'Variables Primarias'!K18) | C18: =IF(ISBLANK('Variables Primarias'!M18), "", 'Variables Primarias'!M18) | D18: =IF(ISBLANK('Variables Primarias'!N18), "", 'Variables Primarias'!N18) | E18: =IF(ISBLANK('Variables Primarias'!O18), "", 'Variables Primarias'!O18) | F18: =IF(ISBLANK('Variables Primarias'!P18), "", 'Variables Primarias'!P18) | G18: =IFERROR((C18/$B18),"") | H18: =IFERROR((D18/$B18),"") | I18: =IFERROR((E18/$B18),"") | J18: =IFERROR((F18/$B18),"") | K18: =IFERROR((G18*100),"") | L18: =IFERROR((H18*100),"") | M18: =IFERROR((I18*100),"") | N18: =IFERROR((J18*100),"")
A19: 2 | B19: =IF(ISBLANK('Variables Primarias'!K19), "", 'Variables Primarias'!K19) | C19: =IF(ISBLANK('Variables Primarias'!M19), "", 'Variables Primarias'!M19) | D19: =IF(ISBLANK('Variables Primarias'!N19), "", 'Variables Primarias'!N19) | E19: =IF(ISBLANK('Variables Primarias'!O19), "", 'Variables Primarias'!O19) | F19: =IF(ISBLANK('Variables Primarias'!P19), "", 'Variables Primarias'!P19) | G19: =IFERROR((C19/$B19),"") | H19: =IFERROR((D19/$B19),"") | I19: =IFERROR((E19/$B19),"") | J19: =IFERROR((F19/$B19),"") | K19: =IFERROR((G19*100),"") | L19: =IFERROR((H19*100),"") | M19: =IFERROR((I19*100),"") | N19: =IFERROR((J19*100),"")
A20: 3 | B20: =IF(ISBLANK('Variables Primarias'!K20), "", 'Variables Primarias'!K20) | C20: =IF(ISBLANK('Variables Primarias'!M20), "", 'Variables Primarias'!M20) | D20: =IF(ISBLANK('Variables Primarias'!N20), "", 'Variables Primarias'!N20) | E20: =IF(ISBLANK('Variables Primarias'!O20), "", 'Variables Primarias'!O20) | F20: =IF(ISBLANK('Variables Primarias'!P20), "", 'Variables Primarias'!P20) | G20: =IFERROR((C20/$B20),"") | H20: =IFERROR((D20/$B20),"") | I20: =IFERROR((E20/$B20),"") | J20: =IFERROR((F20/$B20),"") | K20: =IFERROR((G20*100),"") | L20: =IFERROR((H20*100),"") | M20: =IFERROR((I20*100),"") | N20: =IFERROR((J20*100),"")
A21: 4 | B21: =IF(ISBLANK('Variables Primarias'!K21), "", 'Variables Primarias'!K21) | C21: =IF(ISBLANK('Variables Primarias'!M21), "", 'Variables Primarias'!M21) | D21: =IF(ISBLANK('Variables Primarias'!N21), "", 'Variables Primarias'!N21) | E21: =IF(ISBLANK('Variables Primarias'!O21), "", 'Variables Primarias'!O21) | F21: =IF(ISBLANK('Variables Primarias'!P21), "", 'Variables Primarias'!P21) | G21: =IFERROR((C21/$B21),"") | H21: =IFERROR((D21/$B21),"") | I21: =IFERROR((E21/$B21),"") | J21: =IFERROR((F21/$B21),"") | K21: =IFERROR((G21*100),"") | L21: =IFERROR((H21*100),"") | M21: =IFERROR((I21*100),"") | N21: =IFERROR((J21*100),"")
A22: 5 | B22: =IF(ISBLANK('Variables Primarias'!K22), "", 'Variables Primarias'!K22) | C22: =IF(ISBLANK('Variables Primarias'!M22), "", 'Variables Primarias'!M22) | D22: =IF(ISBLANK('Variables Primarias'!N22), "", 'Variables Primarias'!N22) | E22: =IF(ISBLANK('Variables Primarias'!O22), "", 'Variables Primarias'!O22) | F22: =IF(ISBLANK('Variables Primarias'!P22), "", 'Variables Primarias'!P22) | G22: =IFERROR((C22/$B22),"") | H22: =IFERROR((D22/$B22),"") | I22: =IFERROR((E22/$B22),"") | J22: =IFERROR((F22/$B22),"") | K22: =IFERROR((G22*100),"") | L22: =IFERROR((H22*100),"") | M22: =IFERROR((I22*100),"") | N22: =IFERROR((J22*100),"")
A23: 6 | B23: =IF(ISBLANK('Variables Primarias'!K23), "", 'Variables Primarias'!K23) | C23: =IF(ISBLANK('Variables Primarias'!M23), "", 'Variables Primarias'!M23) | D23: =IF(ISBLANK('Variables Primarias'!N23), "", 'Variables Primarias'!N23) | E23: =IF(ISBLANK('Variables Primarias'!O23), "", 'Variables Primarias'!O23) | F23: =IF(ISBLANK('Variables Primarias'!P23), "", 'Variables Primarias'!P23) | G23: =IFERROR((C23/$B23),"") | H23: =IFERROR((D23/$B23),"") | I23: =IFERROR((E23/$B23),"") | J23: =IFERROR((F23/$B23),"") | K23: =IFERROR((G23*100),"") | L23: =IFERROR((H23*100),"") | M23: =IFERROR((I23*100),"") | N23: =IFERROR((J23*100),"")
A24: 7 | B24: =IF(ISBLANK('Variables Primarias'!K24), "", 'Variables Primarias'!K24) | C24: =IF(ISBLANK('Variables Primarias'!M24), "", 'Variables Primarias'!M24) | D24: =IF(ISBLANK('Variables Primarias'!N24), "", 'Variables Primarias'!N24) | E24: =IF(ISBLANK('Variables Primarias'!O24), "", 'Variables Primarias'!O24) | F24: =IF(ISBLANK('Variables Primarias'!P24), "", 'Variables Primarias'!P24) | G24: =IFERROR((C24/$B24),"") | H24: =IFERROR((D24/$B24),"") | I24: =IFERROR((E24/$B24),"") | J24: =IFERROR((F24/$B24),"") | K24: =IFERROR((G24*100),"") | L24: =IFERROR((H24*100),"") | M24: =IFERROR((I24*100),"") | N24: =IFERROR((J24*100),"")
A25: 8 | B25: =IF(ISBLANK('Variables Primarias'!K25), "", 'Variables Primarias'!K25) | C25: =IF(ISBLANK('Variables Primarias'!M25), "", 'Variables Primarias'!M25) | D25: =IF(ISBLANK('Variables Primarias'!N25), "", 'Variables Primarias'!N25) | E25: =IF(ISBLANK('Variables Primarias'!O25), "", 'Variables Primarias'!O25) | F25: =IF(ISBLANK('Variables Primarias'!P25), "", 'Variables Primarias'!P25) | G25: =IFERROR((C25/$B25),"") | H25: =IFERROR((D25/$B25),"") | I25: =IFERROR((E25/$B25),"") | J25: =IFERROR((F25/$B25),"") | K25: =IFERROR((G25*100),"") | L25: =IFERROR((H25*100),"") | M25: =IFERROR((I25*100),"") | N25: =IFERROR((J25*100),"")
A26: 9 | B26: =IF(ISBLANK('Variables Primarias'!K26), "", 'Variables Primarias'!K26) | C26: =IF(ISBLANK('Variables Primarias'!M26), "", 'Variables Primarias'!M26) | D26: =IF(ISBLANK('Variables Primarias'!N26), "", 'Variables Primarias'!N26) | E26: =IF(ISBLANK('Variables Primarias'!O26), "", 'Variables Primarias'!O26) | F26: =IF(ISBLANK('Variables Primarias'!P26), "", 'Variables Primarias'!P26) | G26: =IFERROR((C26/$B26),"") | H26: =IFERROR((D26/$B26),"") | I26: =IFERROR((E26/$B26),"") | J26: =IFERROR((F26/$B26),"") | K26: =IFERROR((G26*100),"") | L26: =IFERROR((H26*100),"") | M26: =IFERROR((I26*100),"") | N26: =IFERROR((J26*100),"")
A27: 10 | B27: =IF(ISBLANK('Variables Primarias'!K27), "", 'Variables Primarias'!K27) | C27: =IF(ISBLANK('Variables Primarias'!M27), "", 'Variables Primarias'!M27) | D27: =IF(ISBLANK('Variables Primarias'!N27), "", 'Variables Primarias'!N27) | E27: =IF(ISBLANK('Variables Primarias'!O27), "", 'Variables Primarias'!O27) | F27: =IF(ISBLANK('Variables Primarias'!P27), "", 'Variables Primarias'!P27) | G27: =IFERROR((C27/$B27),"") | H27: =IFERROR((D27/$B27),"") | I27: =IFERROR((E27/$B27),"") | J27: =IFERROR((F27/$B27),"") | K27: =IFERROR((G27*100),"") | L27: =IFERROR((H27*100),"") | M27: =IFERROR((I27*100),"") | N27: =IFERROR((J27*100),"")
A28: 11 | B28: =IF(ISBLANK('Variables Primarias'!K28), "", 'Variables Primarias'!K28) | C28: =IF(ISBLANK('Variables Primarias'!M28), "", 'Variables Primarias'!M28) | D28: =IF(ISBLANK('Variables Primarias'!N28), "", 'Variables Primarias'!N28) | E28: =IF(ISBLANK('Variables Primarias'!O28), "", 'Variables Primarias'!O28) | F28: =IF(ISBLANK('Variables Primarias'!P28), "", 'Variables Primarias'!P28) | G28: =IFERROR((C28/$B28),"") | H28: =IFERROR((D28/$B28),"") | I28: =IFERROR((E28/$B28),"") | J28: =IFERROR((F28/$B28),"") | K28: =IFERROR((G28*100),"") | L28: =IFERROR((H28*100),"") | M28: =IFERROR((I28*100),"") | N28: =IFERROR((J28*100),"")
A29: 12 | B29: =IF(ISBLANK('Variables Primarias'!K29), "", 'Variables Primarias'!K29) | C29: =IF(ISBLANK('Variables Primarias'!M29), "", 'Variables Primarias'!M29) | D29: =IF(ISBLANK('Variables Primarias'!N29), "", 'Variables Primarias'!N29) | E29: =IF(ISBLANK('Variables Primarias'!O29), "", 'Variables Primarias'!O29) | F29: =IF(ISBLANK('Variables Primarias'!P29), "", 'Variables Primarias'!P29) | G29: =IFERROR((C29/$B29),"") | H29: =IFERROR((D29/$B29),"") | I29: =IFERROR((E29/$B29),"") | J29: =IFERROR((F29/$B29),"") | K29: =IFERROR((G29*100),"") | L29: =IFERROR((H29*100),"") | M29: =IFERROR((I29*100),"") | N29: =IFERROR((J29*100),"")
... A117: 100 | B117: =IF(ISBLANK('Variables Primarias'!K117), "", 'Variables Primarias'!K117) | C117: =IF(ISBLANK('Variables Primarias'!M117), "", 'Variables Primarias'!M117) | D117: =IF(ISBLANK('Variables Primarias'!N117), "", 'Variables Primarias'!N117) | E117: =IF(ISBLANK('Variables Primarias'!O117), "", 'Variables Primarias'!O117) | F117: =IF(ISBLANK('Variables Primarias'!P117), "", 'Variables Primarias'!P117) | G117: =IFERROR((C117/$B117),"") | H117: =IFERROR((D117/$B117),"") | I117: =IFERROR((E117/$B117),"") | J117: =IFERROR((F117/$B117),"") | K117: =IFERROR((G117*100),"") | L117: =IFERROR((H117*100),"") | M117: =IFERROR((I117*100),"") | N117: =IFERROR((J117*100),"")

Sheet Relación Embrión-Semilla
A1: Relación embrión-semilla
A3: Leyenda:
A4: LIS - Largo interno de la semilla | E4: LST - Largo de la semilla cuando el embrión rompe la testa | L4: DE% - Porcentaje de incremento en longitud del embrión
A5: LE - Largo del embrión | E5: LET - Largo del embión cuando rompe la testa
A6: E/S - Relación embrión/semilla | E6: ET/ST - Relación embrión/semilla cuando el embrión rompe la testa
A7: E/S% - Porcentaje de la relación embrión/semilla | E7: ET/ST% - Porcentaje de la relación embrión/semilla cuando el embrión rompe la testa
B9: LIS | C9: LE | D9: E/S | E9: E/S% | F9: LST | G9: LET | H9: ET/ST | I9: ET/ST% | J9: DE%
A10: Media | B10: =IFERROR(AVERAGE(OFFSET(B18, 0, 0, COUNTA(B18:B117))),"") | C10: =IFERROR(AVERAGE(OFFSET(C18, 0, 0, COUNTA(C18:C117))),"") | D10: {=IFERROR(AVERAGE(IF(ISNUMBER(D18:D117), D18:D117)),"")} | E10: {=IFERROR(AVERAGE(IF(ISNUMBER(E18:E117), E18:E117)),"")} | F10: =IFERROR(AVERAGE(OFFSET(F18, 0, 0, COUNTA(F18:F117))),"") | G10: =IFERROR(AVERAGE(OFFSET(G18, 0, 0, COUNTA(G18:G117))),"") | H10: {=IFERROR(AVERAGE(IF(ISNUMBER(H18:H117), H18:H117)),"")} | I10: {=IFERROR(AVERAGE(IF(ISNUMBER(I18:I117), I18:I117)),"")} | J10: {=IFERROR(AVERAGE(IF(ISNUMBER(J18:J117), J18:J117)),"")}
A11: Mediana | B11: =IFERROR(MEDIAN(OFFSET(B18, 0, 0, COUNTA(B18:B117))), "") | C11: =IFERROR(MEDIAN(OFFSET(C18, 0, 0, COUNTA(C18:C117))), "") | D11: {=IFERROR(MEDIAN(IF(ISNUMBER(D18:D117), D18:D117)),"")} | E11: {=IFERROR(MEDIAN(IF(ISNUMBER(E18:E117), E18:E117)),"")} | F11: =IFERROR(MEDIAN(OFFSET(F18, 0, 0, COUNTA(F18:F117))), "") | G11: =IFERROR(MEDIAN(OFFSET(G18, 0, 0, COUNTA(G18:G117))), "") | H11: {=IFERROR(MEDIAN(IF(ISNUMBER(H18:H117), H18:H117)),"")} | I11: {=IFERROR(MEDIAN(IF(ISNUMBER(I18:I117), I18:I117)),"")} | J11: {=IFERROR(MEDIAN(IF(ISNUMBER(J18:J117), J18:J117)),"")}
A12: DS | B12: =IFERROR(_xlfn.STDEV.S(OFFSET(B18, 0, 0, COUNTA(B18:B117))),"") | C12: =IFERROR(_xlfn.STDEV.S(OFFSET(C18, 0, 0, COUNTA(C18:C117))),"") | D12: {=IFERROR(_xlfn.STDEV.S(IF(ISNUMBER(D18:D117), D18:D117)),"")} | E12: {=IFERROR(_xlfn.STDEV.S(IF(ISNUMBER(E18:E117), E18:E117)),"")} | F12: =IFERROR(_xlfn.STDEV.S(OFFSET(F18, 0, 0, COUNTA(F18:F117))),"") | G12: =IFERROR(_xlfn.STDEV.S(OFFSET(G18, 0, 0, COUNTA(G18:G117))),"") | H12: {=IFERROR(_xlfn.STDEV.S(IF(ISNUMBER(H18:H117), H18:H117)),"")} | I12: {=IFERROR(_xlfn.STDEV.S(IF(ISNUMBER(I18:I117), I18:I117)),"")} | J12: {=IFERROR(_xlfn.STDEV.S(IF(ISNUMBER(J18:J117), J18:J117)),"")}
A13: ES | B13: {=IFERROR(B12/SQRT(SUMPRODUCT(ISNUMBER(B18:B117)*1)), "")} | C13: {=IFERROR(C12/SQRT(SUMPRODUCT(ISNUMBER(C18:C117)*1)), "")} | D13: {=IFERROR(D12/SQRT(SUMPRODUCT(--ISNUMBER(D18:D117))),"")} | E13: {=IFERROR(E12/SQRT(SUMPRODUCT(--ISNUMBER(E18:E117))),"")} | F13: =IFERROR(F12/SQRT(COUNTA(F18:F117)), "") | G13: {=IFERROR(G12/SQRT(SUMPRODUCT(ISNUMBER(G18:G117)*1)), "")} | H13: {=IFERROR(H12/SQRT(SUMPRODUCT(--ISNUMBER(H18:H117))),"")} | I13: {=IFERROR(I12/SQRT(SUMPRODUCT(--ISNUMBER(I18:I117))),"")} | J13: {=IFERROR(J12/SQRT(SUMPRODUCT(--ISNUMBER(J18:J117))),"")}
A14: Mínimo | B14: =IFERROR(MIN(OFFSET(B18, 0, 0, COUNTA(B18:B117))), "") -> 0 | C14: =IFERROR(MIN(OFFSET(C18, 0, 0, COUNTA(C18:C117))), "") -> 0 | D14: {=IFERROR(MIN(IF(ISNUMBER(D18:D117), D18:D117)),"")} -> 0 | E14: {=IFERROR(MIN(IF(ISNUMBER(E18:E117), E18:E117)),"")} -> 0 | F14: =IFERROR(MIN(OFFSET(F18, 0, 0, COUNTA(F18:F117))), "") -> 0 | G14: =IFERROR(MIN(OFFSET(G18, 0, 0, COUNTA(G18:G117))), "") -> 0 | H14: {=IFERROR(MIN(IF(ISNUMBER(H18:H117), H18:H117)),"")} -> 0 | I14: {=IFERROR(MIN(IF(ISNUMBER(I18:I117), I18:I117)),"")} -> 0 | J14: {=IFERROR(MIN(IF(ISNUMBER(J18:J117), J18:J117)),"")} -> 0
A15: Máximo | B15: =IFERROR(MAX(OFFSET(B18, 0, 0, COUNTA(B18:B117))), "") -> 0 | C15: =IFERROR(MAX(OFFSET(C18, 0, 0, COUNTA(C18:C117))), "") -> 0 | D15: {=IFERROR(MAX(IF(ISNUMBER(D18:D117), D18:D117)),"")} -> 0 | E15: {=IFERROR(MAX(IF(ISNUMBER(E18:E117), E18:E117)),"")} -> 0 | F15: =IFERROR(MAX(OFFSET(F18, 0, 0, COUNTA(F18:F117))), "") -> 0 | G15: =IFERROR(MAX(OFFSET(G18, 0, 0, COUNTA(G18:G117))), "") -> 0 | H15: {=IFERROR(MAX(IF(ISNUMBER(H18:H117), H18:H117)),"")} -> 0 | I15: {=IFERROR(MAX(IF(ISNUMBER(I18:I117), I18:I117)),"")} -> 0 | J15: {=IFERROR(MAX(IF(ISNUMBER(J18:J117), J18:J117)),"")} -> 0
A16: Coef. Variación | B16: =IFERROR(((B12/B10)*100),"") | C16: =IFERROR(((C12/C10)*100),"") | D16: =IFERROR(((D12/D10)*100), "") | E16: =IFERROR(((E12/E10)*100), "") | F16: =IFERROR(((F12/F10)*100),"") | G16: =IFERROR(((G12/G10)*100),"") | H16: =IFERROR(((H12/H10)*100), "") | I16: =IFERROR(((I12/I10)*100), "") | J16: =IFERROR(((J12/J10)*100), "")
A17: Réplica
A18: 1 | B18: =IF(ISBLANK('Variables Primarias'!E18), "", 'Variables Primarias'!E18) | C18: =IF(ISBLANK('Variables Primarias'!F18), "", 'Variables Primarias'!F18) | D18: =IFERROR((C18/B18),"") | E18: =IFERROR((D18*100),"") | F18: =IF(ISBLANK('Variables Primarias'!G18), "", 'Variables Primarias'!G18) | G18: =IF(ISBLANK('Variables Primarias'!H18), "", 'Variables Primarias'!H18) | H18: =IFERROR((G18/F18),"") | I18: =IFERROR((H18*100),"") | J18: =IFERROR(((H18-D18)/D18*100),"")
A19: 2 | B19: =IF(ISBLANK('Variables Primarias'!E19), "", 'Variables Primarias'!E19) | C19: =IF(ISBLANK('Variables Primarias'!F19), "", 'Variables Primarias'!F19) | D19: =IFERROR((C19/B19),"") | E19: =IFERROR((D19*100),"") | F19: =IF(ISBLANK('Variables Primarias'!G19), "", 'Variables Primarias'!G19) | G19: =IF(ISBLANK('Variables Primarias'!H19), "", 'Variables Primarias'!H19) | H19: =IFERROR((G19/F19),"") | I19: =IFERROR((H19*100),"") | J19: =IFERROR(((H19-D19)/D19*100),"")
A20: 3 | B20: =IF(ISBLANK('Variables Primarias'!E20), "", 'Variables Primarias'!E20) | C20: =IF(ISBLANK('Variables Primarias'!F20), "", 'Variables Primarias'!F20) | D20: =IFERROR((C20/B20),"") | E20: =IFERROR((D20*100),"") | F20: =IF(ISBLANK('Variables Primarias'!G20), "", 'Variables Primarias'!G20) | G20: =IF(ISBLANK('Variables Primarias'!H20), "", 'Variables Primarias'!H20) | H20: =IFERROR((G20/F20),"") | I20: =IFERROR((H20*100),"") | J20: =IFERROR(((H20-D20)/D20*100),"")
A21: 4 | B21: =IF(ISBLANK('Variables Primarias'!E21), "", 'Variables Primarias'!E21) | C21: =IF(ISBLANK('Variables Primarias'!F21), "", 'Variables Primarias'!F21) | D21: =IFERROR((C21/B21),"") | E21: =IFERROR((D21*100),"") | F21: =IF(ISBLANK('Variables Primarias'!G21), "", 'Variables Primarias'!G21) | G21: =IF(ISBLANK('Variables Primarias'!H21), "", 'Variables Primarias'!H21) | H21: =IFERROR((G21/F21),"") | I21: =IFERROR((H21*100),"") | J21: =IFERROR(((H21-D21)/D21*100),"")
A22: 5 | B22: =IF(ISBLANK('Variables Primarias'!E22), "", 'Variables Primarias'!E22) | C22: =IF(ISBLANK('Variables Primarias'!F22), "", 'Variables Primarias'!F22) | D22: =IFERROR((C22/B22),"") | E22: =IFERROR((D22*100),"") | F22: =IF(ISBLANK('Variables Primarias'!G22), "", 'Variables Primarias'!G22) | G22: =IF(ISBLANK('Variables Primarias'!H22), "", 'Variables Primarias'!H22) | H22: =IFERROR((G22/F22),"") | I22: =IFERROR((H22*100),"") | J22: =IFERROR(((H22-D22)/D22*100),"")
A23: 6 | B23: =IF(ISBLANK('Variables Primarias'!E23), "", 'Variables Primarias'!E23) | C23: =IF(ISBLANK('Variables Primarias'!F23), "", 'Variables Primarias'!F23) | D23: =IFERROR((C23/B23),"") | E23: =IFERROR((D23*100),"") | F23: =IF(ISBLANK('Variables Primarias'!G23), "", 'Variables Primarias'!G23) | G23: =IF(ISBLANK('Variables Primarias'!H23), "", 'Variables Primarias'!H23) | H23: =IFERROR((G23/F23),"") | I23: =IFERROR((H23*100),"") | J23: =IFERROR(((H23-D23)/D23*100),"")
A24: 7 | B24: =IF(ISBLANK('Variables Primarias'!E24), "", 'Variables Primarias'!E24) | C24: =IF(ISBLANK('Variables Primarias'!F24), "", 'Variables Primarias'!F24) | D24: =IFERROR((C24/B24),"") | E24: =IFERROR((D24*100),"") | F24: =IF(ISBLANK('Variables Primarias'!G24), "", 'Variables Primarias'!G24) | G24: =IF(ISBLANK('Variables Primarias'!H24), "", 'Variables Primarias'!H24) | H24: =IFERROR((G24/F24),"") | I24: =IFERROR((H24*100),"") | J24: =IFERROR(((H24-D24)/D24*100),"")
A25: 8 | B25: =IF(ISBLANK('Variables Primarias'!E25), "", 'Variables Primarias'!E25) | C25: =IF(ISBLANK('Variables Primarias'!F25), "", 'Variables Primarias'!F25) | D25: =IFERROR((C25/B25),"") | E25: =IFERROR((D25*100),"") | F25: =IF(ISBLANK('Variables Primarias'!G25), "", 'Variables Primarias'!G25) | G25: =IF(ISBLANK('Variables Primarias'!H25), "", 'Variables Primarias'!H25) | H25: =IFERROR((G25/F25),"") | I25: =IFERROR((H25*100),"") | J25: =IFERROR(((H25-D25)/D25*100),"")
A26: 9 | B26: =IF(ISBLANK('Variables Primarias'!E26), "", 'Variables Primarias'!E26) | C26: =IF(ISBLANK('Variables Primarias'!F26), "", 'Variables Primarias'!F26) | D26: =IFERROR((C26/B26),"") | E26: =IFERROR((D26*100),"") | F26: =IF(ISBLANK('Variables Primarias'!G26), "", 'Variables Primarias'!G26) | G26: =IF(ISBLANK('Variables Primarias'!H26), "", 'Variables Primarias'!H26) | H26: =IFERROR((G26/F26),"") | I26: =IFERROR((H26*100),"") | J26: =IFERROR(((H26-D26)/D26*100),"")
A27: 10 | B27: =IF(ISBLANK('Variables Primarias'!E27), "", 'Variables Primarias'!E27) | C27: =IF(ISBLANK('Variables Primarias'!F27), "", 'Variables Primarias'!F27) | D27: =IFERROR((C27/B27),"") | E27: =IFERROR((D27*100),"") | F27: =IF(ISBLANK('Variables Primarias'!G27), "", 'Variables Primarias'!G27) | G27: =IF(ISBLANK('Variables Primarias'!H27), "", 'Variables Primarias'!H27) | H27: =IFERROR((G27/F27),"") | I27: =IFERROR((H27*100),"") | J27: =IFERROR(((H27-D27)/D27*100),"")
A28: 11 | B28: =IF(ISBLANK('Variables Primarias'!E28), "", 'Variables Primarias'!E28) | C28: =IF(ISBLANK('Variables Primarias'!F28), "", 'Variables Primarias'!F28) | D28: =IFERROR((C28/B28),"") | E28: =IFERROR((D28*100),"") | F28: =IF(ISBLANK('Variables Primarias'!G28), "", 'Variables Primarias'!G28) | G28: =IF(ISBLANK('Variables Primarias'!H28), "", 'Variables Primarias'!H28) | H28: =IFERROR((G28/F28),"") | I28: =IFERROR((H28*100),"") | J28: =IFERROR(((H28-D28)/D28*100),"")
A29: 12 | B29: =IF(ISBLANK('Variables Primarias'!E29), "", 'Variables Primarias'!E29) | C29: =IF(ISBLANK('Variables Primarias'!F29), "", 'Variables Primarias'!F29) | D29: =IFERROR((C29/B29),"") | E29: =IFERROR((D29*100),"") | F29: =IF(ISBLANK('Variables Primarias'!G29), "", 'Variables Primarias'!G29) | G29: =IF(ISBLANK('Variables Primarias'!H29), "", 'Variables Primarias'!H29) | H29: =IFERROR((G29/F29),"") | I29: =IFERROR((H29*100),"") | J29: =IFERROR(((H29-D29)/D29*100),"")
... A117: 100 | B117: =IF(ISBLANK('Variables Primarias'!E117), "", 'Variables Primarias'!E117) | C117: =IF(ISBLANK('Variables Primarias'!F117), "", 'Variables Primarias'!F117) | D117: =IFERROR((C117/B117),"") | E117: =IFERROR((D117*100),"") | F117: =IF(ISBLANK('Variables Primarias'!G117), "", 'Variables Primarias'!G117) | G117: =IF(ISBLANK('Variables Primarias'!H117), "", 'Variables Primarias'!H117) | H117: =IFERROR((G117/F117),"") | I117: =IFERROR((H117*100),"") | J117: =IFERROR(((H117-D117)/D117*100),"")

Sheet Permeabilidad
A1: Permeabilidad de las semillas
A3: Leyenda:
A4: MFS - Masa fresca de la semilla
A5: MSH - Masa de la semilla después del contacto con agua
A6: IMS% - Incremento en masa de la semilla
B8: MFS | C8: MSH | D8: IMS%
A9: Media | B9: =IFERROR(AVERAGE(OFFSET(B17, 0, 0, COUNTA(B17:B116))),"") | C9: =IFERROR(AVERAGE(OFFSET(C17, 0, 0, COUNTA(C17:C116))),"") | D9: {=IFERROR(AVERAGE(IF(ISNUMBER(D17:D116), D17:D116)),"")}
A10: Mediana | B10: =IFERROR(MEDIAN(OFFSET(B17, 0, 0, COUNTA(B17:B116))), "") | C10: =IFERROR(MEDIAN(OFFSET(C17, 0, 0, COUNTA(C17:C116))), "") | D10: {=IFERROR(MEDIAN(IF(ISNUMBER(D17:D116), D17:D116)),"")}
A11: DS | B11: =IFERROR(_xlfn.STDEV.S(OFFSET(B17, 0, 0, COUNTA(B17:B116))),"") | C11: =IFERROR(_xlfn.STDEV.S(OFFSET(C17, 0, 0, COUNTA(C17:C116))),"") | D11: {=IFERROR(_xlfn.STDEV.S(IF(ISNUMBER(D17:D116), D17:D116)),"")}
A12: ES | B12: {=IFERROR(B11/SQRT(SUMPRODUCT(ISNUMBER(B17:B116)*1)), "")} | C12: {=IFERROR(C11/SQRT(SUMPRODUCT(ISNUMBER(C17:C116)*1)), "")} | D12: {=IFERROR(D11/SQRT(SUMPRODUCT(--ISNUMBER(D17:D116))),"")}
A13: Mínimo | B13: =IFERROR(MIN(OFFSET(B17, 0, 0, COUNTA(B17:B116))), "") -> 0 | C13: =IFERROR(MIN(OFFSET(C17, 0, 0, COUNTA(C17:C116))), "") -> 0 | D13: {=IFERROR(MIN(IF(ISNUMBER(D17:D116), D17:D116)),"")} -> 0
A14: Máximo | B14: =IFERROR(MAX(OFFSET(B17, 0, 0, COUNTA(B17:B116))), "") -> 0 | C14: =IFERROR(MAX(OFFSET(C17, 0, 0, COUNTA(C17:C116))), "") -> 0 | D14: {=IFERROR(MAX(IF(ISNUMBER(D17:D116), D17:D116)),"")} -> 0
A15: Coef. Variación | B15: =IFERROR(((B11/B9)*100),"") | C15: =IFERROR(((C11/C9)*100),"") | D15: =IFERROR(((D11/D9)*100), "")
A16: Réplica
A17: 1 | B17: =IF(ISBLANK('Variables Primarias'!J18), "", 'Variables Primarias'!J18) | C17: =IF(ISBLANK('Variables Primarias'!L18), "", 'Variables Primarias'!L18) | D17: =IFERROR(((C17-B17)/B17*100),"")
A18: 2 | B18: =IF(ISBLANK('Variables Primarias'!J19), "", 'Variables Primarias'!J19) | C18: =IF(ISBLANK('Variables Primarias'!L19), "", 'Variables Primarias'!L19) | D18: =IFERROR(((C18-B18)/B18*100),"")
A19: 3 | B19: =IF(ISBLANK('Variables Primarias'!J20), "", 'Variables Primarias'!J20) | C19: =IF(ISBLANK('Variables Primarias'!L20), "", 'Variables Primarias'!L20) | D19: =IFERROR(((C19-B19)/B19*100),"")
A20: 4 | B20: =IF(ISBLANK('Variables Primarias'!J21), "", 'Variables Primarias'!J21) | C20: =IF(ISBLANK('Variables Primarias'!L21), "", 'Variables Primarias'!L21) | D20: =IFERROR(((C20-B20)/B20*100),"")
A21: 5 | B21: =IF(ISBLANK('Variables Primarias'!J22), "", 'Variables Primarias'!J22) | C21: =IF(ISBLANK('Variables Primarias'!L22), "", 'Variables Primarias'!L22) | D21: =IFERROR(((C21-B21)/B21*100),"")
A22: 6 | B22: =IF(ISBLANK('Variables Primarias'!J23), "", 'Variables Primarias'!J23) | C22: =IF(ISBLANK('Variables Primarias'!L23), "", 'Variables Primarias'!L23) | D22: =IFERROR(((C22-B22)/B22*100),"")
A23: 7 | B23: =IF(ISBLANK('Variables Primarias'!J24), "", 'Variables Primarias'!J24) | C23: =IF(ISBLANK('Variables Primarias'!L24), "", 'Variables Primarias'!L24) | D23: =IFERROR(((C23-B23)/B23*100),"")
A24: 8 | B24: =IF(ISBLANK('Variables Primarias'!J25), "", 'Variables Primarias'!J25) | C24: =IF(ISBLANK('Variables Primarias'!L25), "", 'Variables Primarias'!L25) | D24: =IFERROR(((C24-B24)/B24*100),"")
A25: 9 | B25: =IF(ISBLANK('Variables Primarias'!J26), "", 'Variables Primarias'!J26) | C25: =IF(ISBLANK('Variables Primarias'!L26), "", 'Variables Primarias'!L26) | D25: =IFERROR(((C25-B25)/B25*100),"")
A26: 10 | B26: =IF(ISBLANK('Variables Primarias'!J27), "", 'Variables Primarias'!J27) | C26: =IF(ISBLANK('Variables Primarias'!L27), "", 'Variables Primarias'!L27) | D26: =IFERROR(((C26-B26)/B26*100),"")
A27: 11 | B27: =IF(ISBLANK('Variables Primarias'!J28), "", 'Variables Primarias'!J28) | C27: =IF(ISBLANK('Variables Primarias'!L28), "", 'Variables Primarias'!L28) | D27: =IFERROR(((C27-B27)/B27*100),"")
A28: 12 | B28: =IF(ISBLANK('Variables Primarias'!J29), "", 'Variables Primarias'!J29) | C28: =IF(ISBLANK('Variables Primarias'!L29), "", 'Variables Primarias'!L29) | D28: =IFERROR(((C28-B28)/B28*100),"")
... A116: 100 | B116: =IF(ISBLANK('Variables Primarias'!J117), "", 'Variables Primarias'!J117) | C116: =IF(ISBLANK('Variables Primarias'!L117), "", 'Variables Primarias'!L117) | D116: =IFERROR(((C116-B116)/B116*100),"")

Sheet Tolerancia a la Desecación
A1: Tolerancia a la desecación
A3: Leyenda: | G3: Para ambos índices, si:
A4: MSS - Masa seca de la semilla | G4: P < 0,5 - Las semillas son potencialmente tolerantes a la desecación
A5: MRC - Masa relativa de las cubiertas | G5: P > 0,5 - Las semillas son potencialmente sensibles a la desecación
A6: CH(MF)% - Contenido de humedad inicial de la semilla en función de la masa fresca
B8: MSS | C8: MRC | D8: CH(MF)% | E8: Daws et al. (2006) | F8: Pelissari et al. (2018)
A9: Media | B9: =IFERROR(AVERAGE(OFFSET(B17, 0, 0, COUNTA(B17:B116))),"") | C9: =IFERROR(AVERAGE(OFFSET(C17, 0, 0, COUNTA(C17:C116))),"") | D9: =IFERROR(AVERAGE(OFFSET(D17, 0, 0, COUNTA(D17:D116))),"") | E9: {=IFERROR(AVERAGE(IF(ISNUMBER(E17:E116), E17:E116)),"")} | F9: {=IFERROR(AVERAGE(IF(ISNUMBER(F17:F116), F17:F116)),"")}
A10: Mediana | B10: =IFERROR(MEDIAN(OFFSET(B17, 0, 0, COUNTA(B17:B116))), "") | C10: =IFERROR(MEDIAN(OFFSET(C17, 0, 0, COUNTA(C17:C116))), "") | D10: =IFERROR(MEDIAN(OFFSET(D17, 0, 0, COUNTA(D17:D116))), "") | E10: {=IFERROR(MEDIAN(IF(ISNUMBER(E17:E116), E17:E116)),"")} | F10: {=IFERROR(MEDIAN(IF(ISNUMBER(F17:F116), F17:F116)),"")}
A11: DS | B11: =IFERROR(_xlfn.STDEV.S(OFFSET(B17, 0, 0, COUNTA(B17:B116))),"") | C11: =IFERROR(_xlfn.STDEV.S(OFFSET(C17, 0, 0, COUNTA(C17:C116))),"") | D11: =IFERROR(_xlfn.STDEV.S(OFFSET(D17, 0, 0, COUNTA(D17:D116))),"") | E11: {=IFERROR(_xlfn.STDEV.S(IF(ISNUMBER(E17:E116), E17:E116)),"")} | F11: {=IFERROR(_xlfn.STDEV.S(IF(ISNUMBER(F17:F116), F17:F116)),"")}
A12: ES | B12: {=IFERROR(B11/SQRT(SUMPRODUCT(ISNUMBER(B17:B116)*1)), "")} | C12: {=IFERROR(C11/SQRT(SUMPRODUCT(ISNUMBER(C17:C116)*1)), "")} | D12: =IFERROR(D11/SQRT(COUNTA(D17:D116)), "") | E12: {=IFERROR(E11/SQRT(SUMPRODUCT(--ISNUMBER(E17:E116))),"")} | F12: {=IFERROR(F11/SQRT(SUMPRODUCT(--ISNUMBER(F17:F116))),"")}
A13: Mínimo | B13: =IFERROR(MIN(OFFSET(B17, 0, 0, COUNTA(B17:B116))), "") -> 0 | C13: =IFERROR(MIN(OFFSET(C17, 0, 0, COUNTA(C17:C116))), "") -> 0 | D13: =IFERROR(MIN(OFFSET(D17, 0, 0, COUNTA(D17:D116))), "") -> 0 | E13: {=IFERROR(MIN(IF(ISNUMBER(E17:E116), E17:E116)),"")} -> 0 | F13: {=IFERROR(MIN(IF(ISNUMBER(F17:F116), F17:F116)),"")} -> 0
A14: Máximo | B14: =IFERROR(MAX(OFFSET(B17, 0, 0, COUNTA(B17:B116))), "") -> 0 | C14: =IFERROR(MAX(OFFSET(C17, 0, 0, COUNTA(C17:C116))), "") -> 0 | D14: =IFERROR(MAX(OFFSET(D17, 0, 0, COUNTA(D17:D116))), "") -> 0 | E14: {=IFERROR(MAX(IF(ISNUMBER(E17:E116), E17:E116)),"")} -> 0 | F14: {=IFERROR(MAX(IF(ISNUMBER(F17:F116), F17:F116)),"")} -> 0
A15: Coef. Variación | B15: =IFERROR(((B11/B9)*100),"") | C15: =IFERROR(((C11/C9)*100),"") | D15: =IFERROR(((D11/D9)*100),"") | E15: =IFERROR(((E11/E9)*100), "") | F15: =IFERROR(((F11/F9)*100), "")
A16: Réplica
A17: 1 | B17: =IF(ISBLANK('Variables Primarias'!K18), "", 'Variables Primarias'!K18) | C17: =IF(ISBLANK('Distribución de Biomasa'!J18), "", 'Distribución de Biomasa'!J18) | D17: ='Contenido de Humedad'!D17 | E17: =IFERROR((EXP(3.269-(9.974*C17)+(2.156*(LOG10(B17)))))/(1+(EXP(3.269-(9.974*C17)+(2.156*(LOG10(B17)))))),"") | F17: =IFERROR(1/(1+EXP((((-0.1627245*D17)+(1.372784*C17)-(0.4599876*B17)+4.348336)))),"")
A18: 2 | B18: =IF(ISBLANK('Variables Primarias'!K19), "", 'Variables Primarias'!K19) | C18: =IF(ISBLANK('Distribución de Biomasa'!J19), "", 'Distribución de Biomasa'!J19) | D18: ='Contenido de Humedad'!D18 | E18: =IFERROR((EXP(3.269-(9.974*C18)+(2.156*(LOG10(B18)))))/(1+(EXP(3.269-(9.974*C18)+(2.156*(LOG10(B18)))))),"") | F18: =IFERROR(1/(1+EXP((((-0.1627245*D18)+(1.372784*C18)-(0.4599876*B18)+4.348336)))),"")
A19: 3 | B19: =IF(ISBLANK('Variables Primarias'!K20), "", 'Variables Primarias'!K20) | C19: =IF(ISBLANK('Distribución de Biomasa'!J20), "", 'Distribución de Biomasa'!J20) | D19: ='Contenido de Humedad'!D19 | E19: =IFERROR((EXP(3.269-(9.974*C19)+(2.156*(LOG10(B19)))))/(1+(EXP(3.269-(9.974*C19)+(2.156*(LOG10(B19)))))),"") | F19: =IFERROR(1/(1+EXP((((-0.1627245*D19)+(1.372784*C19)-(0.4599876*B19)+4.348336)))),"")
A20: 4 | B20: =IF(ISBLANK('Variables Primarias'!K21), "", 'Variables Primarias'!K21) | C20: =IF(ISBLANK('Distribución de Biomasa'!J21), "", 'Distribución de Biomasa'!J21) | D20: ='Contenido de Humedad'!D20 | E20: =IFERROR((EXP(3.269-(9.974*C20)+(2.156*(LOG10(B20)))))/(1+(EXP(3.269-(9.974*C20)+(2.156*(LOG10(B20)))))),"") | F20: =IFERROR(1/(1+EXP((((-0.1627245*D20)+(1.372784*C20)-(0.4599876*B20)+4.348336)))),"")
A21: 5 | B21: =IF(ISBLANK('Variables Primarias'!K22), "", 'Variables Primarias'!K22) | C21: =IF(ISBLANK('Distribución de Biomasa'!J22), "", 'Distribución de Biomasa'!J22) | D21: ='Contenido de Humedad'!D21 | E21: =IFERROR((EXP(3.269-(9.974*C21)+(2.156*(LOG10(B21)))))/(1+(EXP(3.269-(9.974*C21)+(2.156*(LOG10(B21)))))),"") | F21: =IFERROR(1/(1+EXP((((-0.1627245*D21)+(1.372784*C21)-(0.4599876*B21)+4.348336)))),"")
A22: 6 | B22: =IF(ISBLANK('Variables Primarias'!K23), "", 'Variables Primarias'!K23) | C22: =IF(ISBLANK('Distribución de Biomasa'!J23), "", 'Distribución de Biomasa'!J23) | D22: ='Contenido de Humedad'!D22 | E22: =IFERROR((EXP(3.269-(9.974*C22)+(2.156*(LOG10(B22)))))/(1+(EXP(3.269-(9.974*C22)+(2.156*(LOG10(B22)))))),"") | F22: =IFERROR(1/(1+EXP((((-0.1627245*D22)+(1.372784*C22)-(0.4599876*B22)+4.348336)))),"")
A23: 7 | B23: =IF(ISBLANK('Variables Primarias'!K24), "", 'Variables Primarias'!K24) | C23: =IF(ISBLANK('Distribución de Biomasa'!J24), "", 'Distribución de Biomasa'!J24) | D23: ='Contenido de Humedad'!D23 | E23: =IFERROR((EXP(3.269-(9.974*C23)+(2.156*(LOG10(B23)))))/(1+(EXP(3.269-(9.974*C23)+(2.156*(LOG10(B23)))))),"") | F23: =IFERROR(1/(1+EXP((((-0.1627245*D23)+(1.372784*C23)-(0.4599876*B23)+4.348336)))),"")
A24: 8 | B24: =IF(ISBLANK('Variables Primarias'!K25), "", 'Variables Primarias'!K25) | C24: =IF(ISBLANK('Distribución de Biomasa'!J25), "", 'Distribución de Biomasa'!J25) | D24: ='Contenido de Humedad'!D24 | E24: =IFERROR((EXP(3.269-(9.974*C24)+(2.156*(LOG10(B24)))))/(1+(EXP(3.269-(9.974*C24)+(2.156*(LOG10(B24)))))),"") | F24: =IFERROR(1/(1+EXP((((-0.1627245*D24)+(1.372784*C24)-(0.4599876*B24)+4.348336)))),"")
A25: 9 | B25: =IF(ISBLANK('Variables Primarias'!K26), "", 'Variables Primarias'!K26) | C25: =IF(ISBLANK('Distribución de Biomasa'!J26), "", 'Distribución de Biomasa'!J26) | D25: ='Contenido de Humedad'!D25 | E25: =IFERROR((EXP(3.269-(9.974*C25)+(2.156*(LOG10(B25)))))/(1+(EXP(3.269-(9.974*C25)+(2.156*(LOG10(B25)))))),"") | F25: =IFERROR(1/(1+EXP((((-0.1627245*D25)+(1.372784*C25)-(0.4599876*B25)+4.348336)))),"")
A26: 10 | B26: =IF(ISBLANK('Variables Primarias'!K27), "", 'Variables Primarias'!K27) | C26: =IF(ISBLANK('Distribución de Biomasa'!J27), "", 'Distribución de Biomasa'!J27) | D26: ='Contenido de Humedad'!D26 | E26: =IFERROR((EXP(3.269-(9.974*C26)+(2.156*(LOG10(B26)))))/(1+(EXP(3.269-(9.974*C26)+(2.156*(LOG10(B26)))))),"") | F26: =IFERROR(1/(1+EXP((((-0.1627245*D26)+(1.372784*C26)-(0.4599876*B26)+4.348336)))),"")
A27: 11 | B27: =IF(ISBLANK('Variables Primarias'!K28), "", 'Variables Primarias'!K28) | C27: =IF(ISBLANK('Distribución de Biomasa'!J28), "", 'Distribución de Biomasa'!J28) | D27: ='Contenido de Humedad'!D27 | E27: =IFERROR((EXP(3.269-(9.974*C27)+(2.156*(LOG10(B27)))))/(1+(EXP(3.269-(9.974*C27)+(2.156*(LOG10(B27)))))),"") | F27: =IFERROR(1/(1+EXP((((-0.1627245*D27)+(1.372784*C27)-(0.4599876*B27)+4.348336)))),"")
A28: 12 | B28: =IF(ISBLANK('Variables Primarias'!K29), "", 'Variables Primarias'!K29) | C28: =IF(ISBLANK('Distribución de Biomasa'!J29), "", 'Distribución de Biomasa'!J29) | D28: ='Contenido de Humedad'!D28 | E28: =IFERROR((EXP(3.269-(9.974*C28)+(2.156*(LOG10(B28)))))/(1+(EXP(3.269-(9.974*C28)+(2.156*(LOG10(B28)))))),"") | F28: =IFERROR(1/(1+EXP((((-0.1627245*D28)+(1.372784*C28)-(0.4599876*B28)+4.348336)))),"")
... A116: 100 | B116: =IF(ISBLANK('Variables Primarias'!K117), "", 'Variables Primarias'!K117) | C116: =IF(ISBLANK('Distribución de Biomasa'!J117), "", 'Distribución de Biomasa'!J117) | D116: ='Contenido de Humedad'!D116 | E116: =IFERROR((EXP(3.269-(9.974*C116)+(2.156*(LOG10(B116)))))/(1+(EXP(3.269-(9.974*C116)+(2.156*(LOG10(B116)))))),"") | F116: =IFERROR(1/(1+EXP((((-0.1627245*D116)+(1.372784*C116)-(0.4599876*B116)+4.348336)))),"")

Sheet Metadatos
